BEGIN:VCALENDAR
VERSION:2.0
PRODID:-//LandFrauen Leck - ECPv6.15.11//NONSGML v1.0//EN
CALSCALE:GREGORIAN
METHOD:PUBLISH
X-ORIGINAL-URL:https://landfrauen-leck.de
X-WR-CALDESC:Veranstaltungen für LandFrauen Leck
REFRESH-INTERVAL;VALUE=DURATION:PT1H
X-Robots-Tag:noindex
X-PUBLISHED-TTL:PT1H
BEGIN:VTIMEZONE
TZID:Europe/Berlin
BEGIN:DAYLIGHT
TZOFFSETFROM:+0100
TZOFFSETTO:+0200
TZNAME:CEST
DTSTART:20240331T010000
END:DAYLIGHT
BEGIN:STANDARD
TZOFFSETFROM:+0200
TZOFFSETTO:+0100
TZNAME:CET
DTSTART:20241027T010000
END:STANDARD
BEGIN:DAYLIGHT
TZOFFSETFROM:+0100
TZOFFSETTO:+0200
TZNAME:CEST
DTSTART:20250330T010000
END:DAYLIGHT
BEGIN:STANDARD
TZOFFSETFROM:+0200
TZOFFSETTO:+0100
TZNAME:CET
DTSTART:20251026T010000
END:STANDARD
BEGIN:DAYLIGHT
TZOFFSETFROM:+0100
TZOFFSETTO:+0200
TZNAME:CEST
DTSTART:20260329T010000
END:DAYLIGHT
BEGIN:STANDARD
TZOFFSETFROM:+0200
TZOFFSETTO:+0100
TZNAME:CET
DTSTART:20261025T010000
END:STANDARD
BEGIN:DAYLIGHT
TZOFFSETFROM:+0100
TZOFFSETTO:+0200
TZNAME:CEST
DTSTART:20270328T010000
END:DAYLIGHT
BEGIN:STANDARD
TZOFFSETFROM:+0200
TZOFFSETTO:+0100
TZNAME:CET
DTSTART:20271031T010000
END:STANDARD
END:VTIMEZONE
BEGIN:VEVENT
DTSTART;TZID=Europe/Berlin:20260415T140000
DTEND;TZID=Europe/Berlin:20260415T160000
DTSTAMP:20260422T164236
CREATED:20260204T112926Z
LAST-MODIFIED:20260204T112926Z
UID:2721-1776261600-1776268800@landfrauen-leck.de
SUMMARY:Erste Hilfe Auffrischung (LaFraLeck)
DESCRIPTION:Mittwoch\, 15. April 14:00 Uhr\nGemeindehaus Süderstraße 6\, Leck\nErste Hilfe Auffrischung “Dein Wissen kann Leben retten” !\nKosten: 5\,00€\nFrau Sabine Petersen\, Erste-Hilfe-Ausbilderin und Krankenschwester\nwird in ca. 2 Std. unser Wissen über Erste Hilfe auffrischen.\nAnmeldung bis 10. April bei Anita Christiansen Tel.: 04662 – 70217
URL:https://landfrauen-leck.de/event/erste-hilfe-auffrischung-lafraleck/
CATEGORIES:Information,Vortrag
ATTACH;FMTTYPE=image/jpeg:https://landfrauen-leck.de/wp-content/uploads/2026/02/Apfel-mit-Pflaster.jpg
END:VEVENT
BEGIN:VEVENT
DTSTART;TZID=Europe/Berlin:20260408T180000
DTEND;TZID=Europe/Berlin:20260408T203000
DTSTAMP:20260422T164236
CREATED:20260204T105500Z
LAST-MODIFIED:20260204T112200Z
UID:2708-1775671200-1775680200@landfrauen-leck.de
SUMMARY:Dämmerschoppen (LaFraLeck)
DESCRIPTION:08.April 2026 um 18:00 Uhr\nUnser beliebtes Dämmerschoppen bei Sorbas\, Flensburger Str. 39\, Leck \nWir freuen uns auch auf Gäste!
URL:https://landfrauen-leck.de/event/2708/
CATEGORIES:Stammtisch,Verein
ATTACH;FMTTYPE=image/jpeg:https://landfrauen-leck.de/wp-content/uploads/2025/09/Sorbas.jpg
END:VEVENT
BEGIN:VEVENT
DTSTART;TZID=Europe/Berlin:20260325T143000
DTEND;TZID=Europe/Berlin:20260325T170000
DTSTAMP:20260422T164236
CREATED:20260204T110455Z
LAST-MODIFIED:20260204T110455Z
UID:2714-1774449000-1774458000@landfrauen-leck.de
SUMMARY:Osterdeko (LaFraLeck)
DESCRIPTION:Mittwoch\, 25. März 2026 14:30 bis 17:00 Uhr\nOsterdeko herstellen im IDEENHAFEN\nNordsee Akademie Leck\nKosten: 8\,00€ inkl. Kaffee\, Kekse\, Wasser \nTüfteln\, testen\, ausprobieren! Ob 3D-Drucker\, Lasercut oder Plotter.\nAuch ohne Vorkenntnisse ! Mal etwas Neues ausprobieren.\nDie Einführung und Begleitung übernehmen zwei Ehrenamtliche.\nWir lernen die Geräte kennen und fertigen etwas Eigenes zur Osterdeko an.\nBegrenzte Teilnehmerzahl !\nAnmeldung und Infos bis 12. März bei Julia Carstensen Tel.: 04662 – 8968510
URL:https://landfrauen-leck.de/event/osterdeko-lafraleck/
CATEGORIES:Ausflug,Besichtigung,Information
ATTACH;FMTTYPE=image/jpeg:https://landfrauen-leck.de/wp-content/uploads/2026/02/Ostern.jpg
END:VEVENT
BEGIN:VEVENT
DTSTART;TZID=Europe/Berlin:20260318T143000
DTEND;TZID=Europe/Berlin:20260318T170000
DTSTAMP:20260422T164236
CREATED:20260204T104545Z
LAST-MODIFIED:20260204T105050Z
UID:2699-1773844200-1773853200@landfrauen-leck.de
SUMMARY:Osterdeko (LaFraLeck)
DESCRIPTION:Mittwoch\, 18. März 2026 14:30 bis 17:00 Uhr\nOsterdeko herstellen im IDEENHAFEN\nNordsee Akademie Leck\nKosten: 8\,00€ inkl. Kaffee\, Kekse\, Wasser \nTüfteln\, testen\, ausprobieren! Ob 3D-Drucker\, Lasercut oder Plotter.\nAuch ohne Vorkenntnisse ! Mal etwas Neues ausprobieren.\nDie Einführung und Begleitung übernehmen zwei Ehrenamtliche.\nWir lernen die Geräte kennen und fertigen etwas Eigenes zur Osterdeko an.\nBegrenzte Teilnehmerzahl !\nAnmeldung und Infos bis 12. März bei Julia Carstensen Tel.: 04662 – 8968510
URL:https://landfrauen-leck.de/event/2699/
CATEGORIES:Besichtigung,Information
ATTACH;FMTTYPE=image/jpeg:https://landfrauen-leck.de/wp-content/uploads/2026/02/Ostern.jpg
END:VEVENT
BEGIN:VEVENT
DTSTART;TZID=Europe/Berlin:20260314T160000
DTEND;TZID=Europe/Berlin:20260314T180000
DTSTAMP:20260422T164236
CREATED:20260204T104029Z
LAST-MODIFIED:20260204T104029Z
UID:2695-1773504000-1773511200@landfrauen-leck.de
SUMMARY:Zirkusbesuch (LaFraLeck)
DESCRIPTION:Samstag\, 14. März 2026 16:00 Uhr\nZirkusbesuch in Leck\, Viehmarktplatz\nEintritt frei !!\nWann waren Sie das letzte Mal im Zirkus? Bestimmt lange her.\nEin liebes Mitglied unseres Vereins\, das diesen kleinen\, netten Familienzirkus unterstützt\, lädt uns ein\, mal wieder Zirkusluft zu schnuppern.\nAnmeldung bei Wilma Ochmann
URL:https://landfrauen-leck.de/event/zirkusbesuch-lafraleck/
CATEGORIES:Ausflug,Besichtigung
ATTACH;FMTTYPE=image/jpeg:https://landfrauen-leck.de/wp-content/uploads/2026/02/Clown.jpg
END:VEVENT
BEGIN:VEVENT
DTSTART;TZID=Europe/Berlin:20260312T160000
DTEND;TZID=Europe/Berlin:20260312T180000
DTSTAMP:20260422T164236
CREATED:20260204T101653Z
LAST-MODIFIED:20260204T102632Z
UID:2683-1773331200-1773338400@landfrauen-leck.de
SUMMARY:Schockanruf? Enkeltrick?
DESCRIPTION:Donnerstag\, 12. März 2026 16:00 Uhr\nSchockanruf? Enkeltrick? So schützen Sie sich !\nKostenfrei\nDie vhs Leck bietet zu obigem Thema einen Vortrag mit Gespräch an.\nPolizeiobermeister Thomas Konietzko informiert. \nOb „Enkeltrick“\, „falsche Polizeibeamte”\, “Handwerkertrick”\, “Schockanruf” oder “Phishing”. Betrüger nutzen immer wieder raffinierte Methoden\, um ihre Opfer zu täuschen\, um Geld oder persönliche Daten zu erbeuten. Es werden gezielt Menschen ab etwa 60 Jahren ins Visier genommen. \nEine gute Gelegenheit\, sich zu informieren und zu schützen.\nDie Veranstaltung findet in einem Raum der Gemeinschaftsschule statt.\nAnmeldungen nur an die vhs\, Tel.: 04662-4539 oder info@vhs-leck.de
URL:https://landfrauen-leck.de/event/schockanruf-enkeltrick/
CATEGORIES:Information,Vortrag
ATTACH;FMTTYPE=image/jpeg:https://landfrauen-leck.de/wp-content/uploads/2026/02/Schockanruf.jpg
END:VEVENT
BEGIN:VEVENT
DTSTART;TZID=Europe/Berlin:20260311T180000
DTEND;TZID=Europe/Berlin:20260311T203000
DTSTAMP:20260422T164236
CREATED:20260204T105929Z
LAST-MODIFIED:20260204T112223Z
UID:2711-1773252000-1773261000@landfrauen-leck.de
SUMMARY:Dämmerschoppen (LaFraLeck)
DESCRIPTION:11.März 2026 um 18:00 Uhr\nUnser beliebtes Dämmerschoppen bei Sorbas\, Flensburger Str. 39\, Leck \nWir freuen uns auch auf Gäste!
URL:https://landfrauen-leck.de/event/daemmerschoppen-lafraleck-8/
CATEGORIES:Geselligkeit,Stammtisch,Verein
ATTACH;FMTTYPE=image/jpeg:https://landfrauen-leck.de/wp-content/uploads/2025/09/Sorbas.jpg
END:VEVENT
BEGIN:VEVENT
DTSTART;TZID=Europe/Berlin:20260305T190000
DTEND;TZID=Europe/Berlin:20260305T220000
DTSTAMP:20260422T164236
CREATED:20260204T100400Z
LAST-MODIFIED:20260204T102927Z
UID:2679-1772737200-1772748000@landfrauen-leck.de
SUMMARY:Frauen - Filmabend (LaFraSüdtondern)
DESCRIPTION:Donnerstag\, 5. März 19:00 Uhr\nFrauen – Filmabend\, Ecks Kino\, Niebüll\nKosten: 10\,00€ inkl. Begrüßungsgetränk \nWir sehen : “Hidden Figures”\nDer Film nimmt euch mit in die frühen Tage der NASA\, wo drei außergewöhnliche Frauen im Hintergrund Geschichte schreiben. Der Film verbindet Humor\, Herz und historische Spannung zu einem mitreißenden Erlebnis. Perfekt für alle\, die starke Geschichten über echte Pionierinnen lieben. \nIn Kooperation mit den anderen LF Vereinen Südtondern.\nWir bilden Fahrgemeinschaften (2\,00€ Mitfahrpauschale) ab ZOB Leck beim Rathaus. Abfahrt um 18:15 Uhr. \nAnmeldung ist nicht erforderlich. Gäste sind herzlich willkommen.
URL:https://landfrauen-leck.de/event/frauen-filmabend-lafrasuedtondern/
CATEGORIES:Ausflug,Filmclub
ATTACH;FMTTYPE=image/jpeg:https://landfrauen-leck.de/wp-content/uploads/2025/02/popcorn.jpg
END:VEVENT
BEGIN:VEVENT
DTSTART;TZID=Europe/Berlin:20260222T080000
DTEND;TZID=Europe/Berlin:20260225T170000
DTSTAMP:20260422T164236
CREATED:20250920T093600Z
LAST-MODIFIED:20250920T093600Z
UID:2087-1771747200-1772038800@landfrauen-leck.de
SUMMARY:Wellnesstage Föhr (LaFraLeck)
DESCRIPTION:Sonntag\, 22.02.2026 bis Mittwoch\, 25.02.2026 Wellnesstage im Hotel Upstalsboom in Wyk auf Föhr \n3 Nächte    Doppelzimmer classic Landseite \n279\,00 € pro Nacht/Zimmer    Kurabgabe 1\,80€ pro Person/pro Tag \n3 Nächte    Doppelzimmer classic Landseite jeweils zur Einzelnutzung \n180\,00€ pro Nacht/Zimmer   Kurabgabe 1\,80€ pro Person/pro Tag \nZahlbar bei der Abreise vor Ort ! \nLeistung: \ntäglich Genießer-Frühstücksbuffet bis 12 Uhr\, täglich 3-Gang Abendmenü \nkostenfreier Shuttleservice zwischen Hafen u. Hotel zur An- u. Abreise \nerste Minibarfüllung inklusive \nkostenfreie Nutzung des Wellnessbereich  “eilunSPA” \nkosmetische Anwendungen bitte vor Anreise reservieren unter \n04681 – 9920100 \nStornobedingungen: Kostenfreie Stornierung ist bis 14 Tage vor Anreise möglich. \nBei kürzerer Stornierungszeit werden 90% des o.g. Zimmerpreises in Rechnung gestellt. \nEvent. Reiserücktrittversicherung abschließen.
URL:https://landfrauen-leck.de/event/wellnesstage-foehr-lafraleck/
LOCATION:Upstalsboom Wyk auf Föhr\, Gmelinstraße 11\, Wyk auf Föhr\, 25938\, Germany
CATEGORIES:Ausflug,Geselligkeit,Wellness
ATTACH;FMTTYPE=image/jpeg:https://landfrauen-leck.de/wp-content/uploads/2025/09/Hotelname-Beitragsbild-300x225-1.jpg
END:VEVENT
BEGIN:VEVENT
DTSTART;TZID=Europe/Berlin:20260216T190000
DTEND;TZID=Europe/Berlin:20260216T210000
DTSTAMP:20260422T164236
CREATED:20260204T095606Z
LAST-MODIFIED:20260204T095741Z
UID:2676-1771268400-1771275600@landfrauen-leck.de
SUMMARY:Folgebelehrung in Lebensmittelhygiene u. Infektionsschutz
DESCRIPTION:Montag\, 16. Februar 19:00 Uhr\nFolgebelehrung in Lebensmittelhygiene u. Infektionsschutz im\nGrünen Zentrum\, Bredstedt\nAnmeldung bei Wilma Ochmann
URL:https://landfrauen-leck.de/event/folgebelehrung-in-lebensmittelhygiene-u-infektionsschutz/
CATEGORIES:Ausflug,Information,Vortrag
ATTACH;FMTTYPE=image/jpeg:https://landfrauen-leck.de/wp-content/uploads/2026/02/Hygiene.jpg
END:VEVENT
BEGIN:VEVENT
DTSTART;TZID=Europe/Berlin:20260213T170000
DTEND;TZID=Europe/Berlin:20260213T190000
DTSTAMP:20260422T164236
CREATED:20260204T095100Z
LAST-MODIFIED:20260204T102743Z
UID:2671-1771002000-1771009200@landfrauen-leck.de
SUMMARY:Kneipenquiz (LaFraLeck)
DESCRIPTION:Bitte Beachten\, es gibt nur noch eine Warteliste!\nFreitag\, 13. Februar 2026 um 17:00 Uhr\nAlter Dorfkrug\, Hauptstraße 41\, Leck \nKosten 3\,- € \nBei einem Kneipenquiz werden Teams gebildet\, die gegeneinander antreten. Die Spielleiterin stellt Fragen zu Allgemeinwissen\, Zeitgeschehen\, aus der Region\, Bilderrätsel\, usw. Das Team berät sich u. notiert die Antwort. Handys sind natürlich tabu ! Am Ende gewinnt das Team mit den meisten Punkten. Wobei Spaß und Teamarbeit im Vordergrund stehen\, nicht nur das Wissen Einzelner.\nAlso keine Scheu. Traut euch ! Wir werden viel Spaß haben.\nAnmeldung bei Wilma Ochmann bis 6. Februar.  \n 
URL:https://landfrauen-leck.de/event/kneipenquiz-lafraleck/
CATEGORIES:Geselligkeit,Spielenachmittag
ATTACH;FMTTYPE=image/jpeg:https://landfrauen-leck.de/wp-content/uploads/2026/02/Quiz.jpg
END:VEVENT
BEGIN:VEVENT
DTSTART;TZID=Europe/Berlin:20260211T180000
DTEND;TZID=Europe/Berlin:20260211T203000
DTSTAMP:20260422T164236
CREATED:20260204T104905Z
LAST-MODIFIED:20260204T112249Z
UID:2702-1770832800-1770841800@landfrauen-leck.de
SUMMARY:Dämmerschoppen (LaFraLeck)
DESCRIPTION:11.Februar 2026 um 18:00 Uhr\nUnser beliebtes Dämmerschoppen bei Sorbas\, Flensburger Str. 39\, Leck \nWir freuen uns auch auf Gäste!
URL:https://landfrauen-leck.de/event/daemmerschoppen-lafraleck-6/
CATEGORIES:Geselligkeit,Stammtisch
ATTACH;FMTTYPE=image/jpeg:https://landfrauen-leck.de/wp-content/uploads/2025/09/Sorbas.jpg
END:VEVENT
BEGIN:VEVENT
DTSTART;TZID=Europe/Berlin:20260129T163000
DTEND;TZID=Europe/Berlin:20260129T190000
DTSTAMP:20260422T164236
CREATED:20250920T084740Z
LAST-MODIFIED:20260111T151507Z
UID:2082-1769704200-1769713200@landfrauen-leck.de
SUMMARY:Jahreshauptversammlung (LaFraLeck)
DESCRIPTION:Donnerstag\, den 29.01.2026 um 16:30 Uhr \nJahreshauptversammlung  Achtruper Stuben \nHier die Einladung als PDF: Einladung JHV
URL:https://landfrauen-leck.de/event/jahreshauptversammlung-lafraleck/
LOCATION:Landgasthof Achtruper Stuben
CATEGORIES:Information,Verein
ATTACH;FMTTYPE=image/jpeg:https://landfrauen-leck.de/wp-content/uploads/2025/09/Vorstand-Collage-klein.jpg
END:VEVENT
BEGIN:VEVENT
DTSTART;TZID=Europe/Berlin:20260124T100000
DTEND;TZID=Europe/Berlin:20260124T123000
DTSTAMP:20260422T164236
CREATED:20260102T092937Z
LAST-MODIFIED:20260102T103748Z
UID:2651-1769248800-1769257800@landfrauen-leck.de
SUMMARY:Yoga (LaFraLeck)
DESCRIPTION:“ Mit Schwung ins neue Jahr – Sanftes Yoga für Rücken und Gelenke “\nmit Suppe im Anschluss.\nTermin : Samstag\, 24. Januar 2026 10:00 bis 12:30\nOrt : Zonnewol Yogastudio\, Lecker Chaussee 5\, Leck-Klintum \nMit einfachen Bewegungen für Rücken\, Schultern und Gelenke bringen wir den Körper in Schwung und schenken uns neue Energie für die kommenden Monate. Alle Übungen sind auch auf dem Hocker möglich. Im Anschluss gibt es eine warme Gemüsesuppe\, Tee\, eine kurze Passage aus der yogischen\nPhilosophie und Zeit zum Klönen. \nKosten : 40 € inkl. Suppe\, Tee und einen Wohlfühl Roller\nBegrenzte Teilnehmerzahl!!!\nAnmeldung jeweils bis eine Woche vor dem Veranstaltungstermin ! \nWilma Ochmann Tel: 04662 – 6144773 oder \nMail an info@landfrauen-leck.de
URL:https://landfrauen-leck.de/event/yoga-lafraleck/
LOCATION:Zonnewol Yogastudio\, Lecker Chaussee 5\, Leck - Klintum\, 25917
ATTACH;FMTTYPE=image/jpeg:https://landfrauen-leck.de/wp-content/uploads/2026/01/Yoga-klein.jpg
END:VEVENT
BEGIN:VEVENT
DTSTART;TZID=Europe/Berlin:20260122T080000
DTEND;TZID=Europe/Berlin:20260126T170000
DTSTAMP:20260422T164236
CREATED:20250529T150134Z
LAST-MODIFIED:20250813T145540Z
UID:1750-1769068800-1769446800@landfrauen-leck.de
SUMMARY:Grüne Woche nach Berlin (LaFraSüdtondern)
DESCRIPTION:Donnerstag\, 22. Jan. bis Sonntag\, 25. Jan. 2026\nUnser Nachbarverein Enge-Sande/Stedesand hat für uns und die LandFrauenLadelund eine Reise zur Grünen Woche 2026 nach Berlin organisiert.\nWir werden ein spannendes Wochenende in der Bundeshauptstadt verbringen. Partner und Partnerinnen\, Freund und Freundinnen sind hierzu auch herzlich eingeladen.\nNeben dem Messebesuch erwartet Euch ein abwechslungsreiches Rahmenprogramm mit Stadtführung\, Freizeit für eigene Entdeckungen\, sowie optionalen Zusatzangeboten. \nReiseleistungen:\nFahrt im modernen Bölck-Reisebus\nFrühstück am Anreisetag\n3 Übernachtungen mit Frühstück im Leonardo Hotel am Kudamm\nEintritt zur Grünen Woche\nStadtführung\nCity Taxi inkl.\nPreise pro Person:\nab 40 Personen 379 €\nab 35 Personen 405 €\nab 30 Personen 439 €\nEinzelzimmerzuschlag 144 € \nAnmeldung bis zum 15. August 2025 !\nbei Sünje Harmsen per Mail: suenje.h.lfv@gmail.com\noder per Telefon: 04662 – 8814644 oder 0151-15245526\nWeitere Infos folgen voraus. im Herbst\, dann auch die Konto-Nr.\, Ablauf\, usw.
URL:https://landfrauen-leck.de/event/gruene-woche-nach-berlin-lafrasuedtondern/
CATEGORIES:Ausflug,Information
ATTACH;FMTTYPE=image/jpeg:https://landfrauen-leck.de/wp-content/uploads/2025/05/Trauerweide.jpg
END:VEVENT
BEGIN:VEVENT
DTSTART;TZID=Europe/Berlin:20260114T180000
DTEND;TZID=Europe/Berlin:20260114T203000
DTSTAMP:20260422T164236
CREATED:20260102T090527Z
LAST-MODIFIED:20260102T092108Z
UID:2649-1768413600-1768422600@landfrauen-leck.de
SUMMARY:Dämmerschoppen (LaFraLeck)
DESCRIPTION:Mittwoch\, 14.01.2026 um 18:00 Uhr\nUnser beliebter Dämmerschoppen\, bei \nSorbas\, Flensburger Str. 39\, Leck \nOhne Anmeldung. Einfach vorbeikommen und uns kennenlernen.
URL:https://landfrauen-leck.de/event/daemmerschoppen-lafraleck-4/
LOCATION:Sorbas Leck
CATEGORIES:Geselligkeit,Stammtisch
ATTACH;FMTTYPE=image/jpeg:https://landfrauen-leck.de/wp-content/uploads/2025/09/Sorbas.jpg
END:VEVENT
BEGIN:VEVENT
DTSTART;TZID=Europe/Berlin:20260110T150000
DTEND;TZID=Europe/Berlin:20260110T173000
DTSTAMP:20260422T164236
CREATED:20260102T085953Z
LAST-MODIFIED:20260102T092154Z
UID:2642-1768057200-1768066200@landfrauen-leck.de
SUMMARY:Yoga bei Kerzenschein (LaFraLeck)
DESCRIPTION:“ Winterruhe & Herzöffnung – Entspannendes Yoga bei Kerzenschein “\nmit Suppe im Anschluss. \nTermin: Samstag\, 10. Januar 2026 15:00 bis 17:30 \nOrt: Zonnewol Yogastudio\, Lecker Chaussee 5\, Leck-Klintum \nIn dieser Yogastunde genießen wir sanfte Dehnung\, leichte Atemübungen und wohltuende\nEntspannung – wahlweise auf der Matte oder auf dem Hocker.\nBei Kerzenschein finden wir Ruhe und Wärme.\nZum Abschluss gibt es eine warme Gemüsesuppe aus lokalem\, saisonalem Bio-Gemüse und\nKräutertee.\nKosten : 40 € inkl. Suppe\, Tee und einen Wohlfühl-Roller als kleine Erinnerung\nEin Nachmittag für Herz\, Seele und Gemeinschaft “ Kraft & Klön – Tied för di “ \nBegrenzte Teilnehmerzahl!!!\nAnmeldung jeweils bis eine Woche vor dem Veranstaltungstermin! \nbei Wilma Ochmann Tel: 04662 – 6144773 oder \nMail an: info@landfrauen-leck.de
URL:https://landfrauen-leck.de/event/yoga-bei-kerzenschein-lafraleck/
LOCATION:Zonnewol Yogastudio\, Lecker Chaussee 5\, Leck - Klintum\, 25917
CATEGORIES:Sport
ATTACH;FMTTYPE=image/jpeg:https://landfrauen-leck.de/wp-content/uploads/2026/01/Yoga-klein.jpg
END:VEVENT
BEGIN:VEVENT
DTSTART;TZID=Europe/Berlin:20260102T080000
DTEND;TZID=Europe/Berlin:20260102T170000
DTSTAMP:20260422T164236
CREATED:20260102T104054Z
LAST-MODIFIED:20260102T104054Z
UID:2660-1767340800-1767373200@landfrauen-leck.de
SUMMARY:Dämmerschoppen (LaFraLeck)
DESCRIPTION:Mittwoch\, 11.02.2026 um 18:00 Uhr\nUnser beliebter Dämmerschoppen\, bei \nSorbas\, Flensburger Str. 39\, Leck \nOhne Anmeldung. Einfach vorbeikommen und uns kennenlernen.
URL:https://landfrauen-leck.de/event/daemmerschoppen-lafraleck-5/
END:VEVENT
BEGIN:VEVENT
DTSTART;TZID=Europe/Berlin:20251205T153000
DTEND;TZID=Europe/Berlin:20251205T183000
DTSTAMP:20260422T164236
CREATED:20250920T083903Z
LAST-MODIFIED:20250920T083903Z
UID:2072-1764948600-1764959400@landfrauen-leck.de
SUMMARY:Adventsnachmittag (LaFraLeck)
DESCRIPTION:  \n  \nFreitag\, 05.12.25 um 15:30 Uhr Adventsnachmittag in Achtrup\nBitte merken Sie sich diesen Termin vor ! \nDetails dazu bekommen Sie in einer gesonderten Einladung. \nDas geplante Programm in Kurzfassung: \nAndacht mit Pastorin Karin Emersleben in der Achtruper Kirche. \nUnterhaltung mit Achtruper Grundschulkindern in Achtruper Stuben\, \ngemeinsames Essen und musikalische Einstimmung auf die stille Advents- und Weihnachtszeit. \nAnmeldungen werden ab sofort entgegengenommen. \nAnmeldung bei Wilma Ochmann\, Tel.:  04662 – 6144773 oder Mail: info@landfrauen-leck.de
URL:https://landfrauen-leck.de/event/adventsnachmittag-lafraleck/
CATEGORIES:Feste und Feiern,Geselligkeit
ATTACH;FMTTYPE=image/jpeg:https://landfrauen-leck.de/wp-content/uploads/2025/09/Laterne.jpg
END:VEVENT
BEGIN:VEVENT
DTSTART;TZID=Europe/Berlin:20251119T150000
DTEND;TZID=Europe/Berlin:20251119T170000
DTSTAMP:20260422T164236
CREATED:20250919T153301Z
LAST-MODIFIED:20250920T084144Z
UID:2067-1763564400-1763571600@landfrauen-leck.de
SUMMARY:Herbstnachmittag (LaFraLeck)
DESCRIPTION:Mittwoch\, 19.11.25 um 15:00 Uhr Herbstnachmittag im Restaurant Poseidon\, Leck\, Hauptstraße 49\n“Das Licht in mir”\nDer goldene Oktober ist vorüber\, die lichtvolle Adventszeit nicht mehr weit.\nDer November hüllt uns ein mit seiner samtigen Dunkelheit\, lädt ein zum Tee und Kerzenlicht. Zeit für Märchen und Geschichten\, die das Licht in unserem Innern strahlen lassen. \nDie Märchenerzählerin Susanne Söder-Beyer erzählt uns auf unserem gemeinsamen Zusammentreffen von Begegnungen zwischen Jung und Alt\, von der Suche nach dem Glück und vom erfüllten Leben. Lassen Sie sich einladen zum Träumen\, Nachsinnen\, Lachen und Schmunzeln und erleben Sie einen entspannten und gemütlichen Nachmittag. (Susanne Söder-Beyer) \nKosten : Mitglieder zahlen 18 Euro inkl. Kaffee satt und Kuchengedeck\nNichtmitglieder: 23 Euro\nAnmeldung bei Wilma Ochmann\, Tel.: 04662 – 6144773 oder per Mail an info@landfrauen-leck.de
URL:https://landfrauen-leck.de/event/herbstnachmittag-lafraleck/
CATEGORIES:Geselligkeit,Vortrag
ATTACH;FMTTYPE=image/jpeg:https://landfrauen-leck.de/wp-content/uploads/2025/09/Posaidon.jpg
END:VEVENT
BEGIN:VEVENT
DTSTART;TZID=Europe/Berlin:20251112T180000
DTEND;TZID=Europe/Berlin:20251112T210000
DTSTAMP:20260422T164236
CREATED:20250919T152017Z
LAST-MODIFIED:20250919T152017Z
UID:2065-1762970400-1762981200@landfrauen-leck.de
SUMMARY:Dämmerschoppen (LaFraLeck)
DESCRIPTION:Mittwoch\, 12.11.2025 um 18:00 Uhr\nUnser beliebtes Dämmerschoppen bei Sorbas\, Flensburger Straße 39 \,Leck
URL:https://landfrauen-leck.de/event/daemmerschoppen-lafraleck-3/
LOCATION:Sorbas Leck
CATEGORIES:Stammtisch
ATTACH;FMTTYPE=image/jpeg:https://landfrauen-leck.de/wp-content/uploads/2025/09/Sorbas.jpg
END:VEVENT
BEGIN:VEVENT
DTSTART;TZID=Europe/Berlin:20251107T190000
DTEND;TZID=Europe/Berlin:20251107T210000
DTSTAMP:20260422T164236
CREATED:20250919T151112Z
LAST-MODIFIED:20250919T151112Z
UID:2058-1762542000-1762549200@landfrauen-leck.de
SUMMARY:Ladies Night (LaFraLeck)
DESCRIPTION:  \n  \nFreitag\, 07.11.25 ab 19 Uhr Ladies Night – Cocktailabend im Chilleck Leck\, Hauptstraße 20\nWir werden in der VIP Lounge zu moderaten Preisen Cocktails mit und ohne Alkohol genießen und einen fröhlichen Abend in lockerer Runde verbringen.\nBegrenzte Teilnehmerzahl !!\nAnmeldung bei Britta Enewaldsen\, Tel.: 04662 – 7291 (AB=ItzehoerVersicherung)\noder per Mail: info@landfrauen-leck.de
URL:https://landfrauen-leck.de/event/ladies-night-lafraleck/
CATEGORIES:Geselligkeit
ATTACH;FMTTYPE=image/jpeg:https://landfrauen-leck.de/wp-content/uploads/2025/09/Cilleck.jpg
END:VEVENT
BEGIN:VEVENT
DTSTART;TZID=Europe/Berlin:20251106T193000
DTEND;TZID=Europe/Berlin:20251106T220000
DTSTAMP:20260422T164236
CREATED:20250919T150037Z
LAST-MODIFIED:20250919T150037Z
UID:2050-1762457400-1762466400@landfrauen-leck.de
SUMMARY:Frauen Kinoabend (LaFraSüdtondern)
DESCRIPTION:  \n  \nDonnerstag\, 06.11.25 um 19:30 Uhr Frauen Kinoabend der LandFrauen Vereine\nSüdtondern in Ecks Kino Niebüll\nGezeigt wird: “ Calendar Girls “\nBritischer Humor vom Feinsten: Chris und Annie\, zwei ältere Damen\, sind beste Freundinnen. Ihr Leben wird erschüttert\, als Annies Ehemann stirbt. Chris schlägt vor\, den jährlichen Kalender des Women`s Institut zu produzieren und den Erlös dem örtlichen Krankenhaus zu spenden. Es wird ein Kalender der etwas anderen Art\, der für viel Aufruhr sorgt……. \nKosten: 10 Euro inkl. Begrüßungsgetränk\nAnmeldung bei Wilma Ochmann\, Tel.: 04662 – 6144773 oder per Mail an info@landfrauen-leck.de\nWir bilden Fahrgemeinschaften (2\,00€) ab ZOB Leck um 18:45 Uhr.
URL:https://landfrauen-leck.de/event/frauen-kinoabend-lafrasuedtondern/
LOCATION:Eck’s Kino\, Hauptstraße 37A\, Niebüll\, 25899
CATEGORIES:Ausflug,Filmclub
ATTACH;FMTTYPE=image/jpeg:https://landfrauen-leck.de/wp-content/uploads/2025/02/popcorn.jpg
END:VEVENT
BEGIN:VEVENT
DTSTART;TZID=Europe/Berlin:20251027T090000
DTEND;TZID=Europe/Berlin:20251027T170000
DTSTAMP:20260422T164236
CREATED:20250919T144858Z
LAST-MODIFIED:20250919T145213Z
UID:2043-1761555600-1761584400@landfrauen-leck.de
SUMMARY:LandFrauen Literaturtag (KreisLaFraVerband)
DESCRIPTION:  \n  \nMontag\, 27.10.25 um 9:00 Uhr\nLandFrauen Literaturtag in der Nordsee Akademie\nveranstaltet vom KreisLandFrauenVerband NF.\nProgramm im Anhang \nbitte klicken…Programm Literaturtag_2025
URL:https://landfrauen-leck.de/event/landfrauen-literaturtag/
LOCATION:Nordsee Akademie\, Flensburger Straße 18\, Leck\, 25917
CATEGORIES:Information,Verein
ATTACH;FMTTYPE=image/jpeg:https://landfrauen-leck.de/wp-content/uploads/2025/08/Buch-mit-Rose.jpg
END:VEVENT
BEGIN:VEVENT
DTSTART;TZID=Europe/Berlin:20251024T170000
DTEND;TZID=Europe/Berlin:20251024T200000
DTSTAMP:20260422T164236
CREATED:20250919T142801Z
LAST-MODIFIED:20250919T145257Z
UID:2036-1761325200-1761336000@landfrauen-leck.de
SUMMARY:Kegelabend (LaFraLeck)
DESCRIPTION:Freitag\, 24.10.25 um 17:00 Uhr Kegelabend in der Nordfrieslandhalle\, Leck.\nDa es in der NF Halle zur Zeit keine Gastronomie gibt\, bitte \n“ Chips + Dips + Drinks “ selbst mitbringen.\nAuch Nicht Keglerinnen sind an diesem fröhlichen Abend herzlich willkommen! \nKosten : 2 Euro p. Person\nAnmeldung bei Annelie Guttzeit\, Tel.: 04662 – 70867 oder Mail an: info@landfrauen-leck.de
URL:https://landfrauen-leck.de/event/kegelabend/
LOCATION:NF-Halle\, Am Süderholz 13E\, Leck\, 25917
CATEGORIES:Kegeln
ATTACH;FMTTYPE=image/jpeg:https://landfrauen-leck.de/wp-content/uploads/2025/09/Kegelbahn.jpg
END:VEVENT
BEGIN:VEVENT
DTSTART;TZID=Europe/Berlin:20251011T140000
DTEND;TZID=Europe/Berlin:20251011T160000
DTSTAMP:20260422T164236
CREATED:20250919T140703Z
LAST-MODIFIED:20250919T145323Z
UID:2030-1760191200-1760198400@landfrauen-leck.de
SUMMARY:Vintage Himmel (LaFraLeck)
DESCRIPTION:  \n  \nSamstag\, 11.10. von 14:00 bis 16:00 Uhr\nist der Verkaufsraum nur für uns LandFrauen\ngeöffnet. Es gibt Kaffee und Kuchen. Auswahl nach Karte. \nFür 2 Stunden ist die Himmelstür im ” Vintage Himmel “\nbei Janyna Görlich\, Hauptstraße 24 in Leck für uns zum Stöbern geöffnet.\nHochwertige Mode und Wohnen aus 2. und 1. Hand wird hier mit viel Liebe präsentiert. \nBegrenzte Teilnehmerzahl !! \nAnmeldung bei Wilma Ochmann\, Tel.: 04662 – 6144773 oder per Mail an info@landfrauen-leck.de
URL:https://landfrauen-leck.de/event/vintage-himmel-2/
LOCATION:Vintage Himmel\, Hauptstraße 24\, Leck\, 25917
CATEGORIES:Ausflug,Besichtigung
ATTACH;FMTTYPE=image/jpeg:https://landfrauen-leck.de/wp-content/uploads/2025/09/Vintage-Himmel.jpeg
END:VEVENT
BEGIN:VEVENT
DTSTART;TZID=Europe/Berlin:20251010T183000
DTEND;TZID=Europe/Berlin:20251010T203000
DTSTAMP:20260422T164236
CREATED:20250919T134600Z
LAST-MODIFIED:20250919T145350Z
UID:2017-1760121000-1760128200@landfrauen-leck.de
SUMMARY:Vintage Himmel (LaFraLeck)
DESCRIPTION:  \n  \nFreitag\, 10.10. von 18:30 bis 20:30 Uhr Abendshopping mit Getränken und Knabberzeug.\nAm 10. Oktober ist für 2 Stunden die Himmelstür im ” Vintage Himmel “ bei Janyna Görlich\, Hauptstraße 24 in Leck für uns zum Stöbern geöffnet.\nHochwertige Mode und Wohnen aus 2. und 1. Hand wird hier mit viel Liebe präsentiert. \nKosten: 5 Euro\, wird bei einem Einkauf ab 10 € verrechnet. \nBegrenzte Teilnehmerzahl !! \nAnmeldung bei Wilma Ochmann\, Tel.: 04662 – 6144773 oder per Mail an info@landfrauen-leck.de
URL:https://landfrauen-leck.de/event/vintage-himmel/
LOCATION:Vintage Himmel\, Hauptstraße 24\, Leck\, 25917
CATEGORIES:Ausflug,Besichtigung
ATTACH;FMTTYPE=image/jpeg:https://landfrauen-leck.de/wp-content/uploads/2025/09/Vintage-Himmel.jpeg
END:VEVENT
BEGIN:VEVENT
DTSTART;TZID=Europe/Berlin:20251008T180000
DTEND;TZID=Europe/Berlin:20251008T210000
DTSTAMP:20260422T164236
CREATED:20250919T132520Z
LAST-MODIFIED:20250919T133759Z
UID:2014-1759946400-1759957200@landfrauen-leck.de
SUMMARY:Dämmerschoppen (LaFraLeck)
DESCRIPTION:  \n  \nMittwoch\, 08.10.2025 um 18:00 Uhr\nUnser beliebtes Dämmerschoppen bei Sorbas\, Flensburger Straße 39 \,Leck
URL:https://landfrauen-leck.de/event/daemmerschoppen-lafraleck-2/
LOCATION:Sorbas Leck
CATEGORIES:Stammtisch
ATTACH;FMTTYPE=image/jpeg:https://landfrauen-leck.de/wp-content/uploads/2025/09/Sorbas.jpg
END:VEVENT
BEGIN:VEVENT
DTSTART;TZID=Europe/Berlin:20250930T150000
DTEND;TZID=Europe/Berlin:20250930T170000
DTSTAMP:20260422T164236
CREATED:20250812T140235Z
LAST-MODIFIED:20250822T092521Z
UID:1833-1759244400-1759251600@landfrauen-leck.de
SUMMARY:Freiwillige Feuerwehr Leck (LaFraLeck)
DESCRIPTION:Dienstag\, den 30.09.2025 um 15:00 Uhr.\nFreiwillige Feuerwehr in Leck \nWir werden einen interessanten Nachmittag erleben. Vortrag\, Einweisung in Kleingeräte (z. B. Feuerlöscher)\, Präsentation der Fahrzeuge und die Vorführung der Drohne. \nKosten:  keine \nGetränke können erworben werden \nAnmeldung bei Anita Christiansen Tel: 04662 – 70217 (auch AB) oder per Mail an info@landfrauen-leck.de
URL:https://landfrauen-leck.de/event/freiwillige-feuerwehr-leck-lafraleck/
CATEGORIES:Ausflug,Besichtigung,Vortrag
ATTACH;FMTTYPE=image/jpeg:https://landfrauen-leck.de/wp-content/uploads/2025/08/Feuerwehr.jpg
END:VEVENT
BEGIN:VEVENT
DTSTART;TZID=Europe/Berlin:20250928T140000
DTEND;TZID=Europe/Berlin:20250928T180000
DTSTAMP:20260422T164236
CREATED:20250812T143456Z
LAST-MODIFIED:20250818T085216Z
UID:1840-1759068000-1759082400@landfrauen-leck.de
SUMMARY:Landmarkt in Leck
DESCRIPTION:Sonntag\, den 28.09.2025  ab  14:00 Uhr.\nauch dieses Mal sind wir mit unserem LandFrauen Infostand auf dem Landmarkt im Leck Huus vertreten und freuen uns auf reichlich Besucher.
URL:https://landfrauen-leck.de/event/landmarkt-in-leck/
CATEGORIES:Information
ATTACH;FMTTYPE=image/jpeg:https://landfrauen-leck.de/wp-content/uploads/2025/08/12.-LeckerLandmarkt.jpg
END:VEVENT
END:VCALENDAR